BEGIN:VCALENDAR
VERSION:2.0
PRODID:-//Baptist Children&rsquo;s Home and Family Services - ECPv6.0.13.1//NONSGML v1.0//EN
CALSCALE:GREGORIAN
METHOD:PUBLISH
X-WR-CALNAME:Baptist Children&rsquo;s Home and Family Services
X-ORIGINAL-URL:https://bchfs.com
X-WR-CALDESC:Events for Baptist Children&rsquo;s Home and Family Services
REFRESH-INTERVAL;VALUE=DURATION:PT1H
X-Robots-Tag:noindex
X-PUBLISHED-TTL:PT1H
BEGIN:VTIMEZONE
TZID:UTC
BEGIN:STANDARD
TZOFFSETFROM:+0000
TZOFFSETTO:+0000
TZNAME:UTC
DTSTART:20200101T000000
END:STANDARD
END:VTIMEZONE
BEGIN:VEVENT
DTSTART;TZID=UTC:20201117T120000
DTEND;TZID=UTC:20201117T180000
DTSTAMP:20260425T161126
CREATED:20201023T151448Z
LAST-MODIFIED:20201023T151448Z
UID:21971-1605614400-1605636000@bchfs.com
SUMMARY:Faith Adoption Ministry Open House
DESCRIPTION:On November 17\, 2020\, from 12:00pm to 6:00pm an Open House for Faith Adoption Ministry.  Baptist Children’s Home and Family Services has had an Adoption Ministry for many years\, so the ministry is not new\, but the name- Faith Adoption Ministry-is.  We want to ensure anyone seeking adoption services will recognize our ministry as an independent service from those offered through Angels’ Cove\, so we decided to give our ministry a new name.  As we know\, adoption requires much Faith.  It takes a lot of Faith for a birth mother to make an adoption plan and trust a couple to raise her child.  It takes much Faith for an adoptive couple to pursue adoption as the wait for a child can take many years.  It takes a lot of Faith for an adoptee as they grow to know they were chosen\, loved\, and cherished by Our God\, the birth family\, and adoptive family.  We are so thankful for the Faith that comes through believing Jesus is our Messiah.
URL:https://bchfs.com/event/faith-adoption-ministry-open-house/
LOCATION:Faith Adoption Ministry\, 4243 Lincolnshire Drive\, Mt. Vernon\, IL\, 62864\, United States
ORGANIZER;CN="BCHFS":MAILTO:bchfs@bchfs.com
END:VEVENT
END:VCALENDAR